BEGIN:VCALENDAR
VERSION:2.0
PRODID:spatie/icalendar-generator
DESCRIPTION:Events from Laurel Amateur Radio Club
X-WR-CALDESC:Events from Laurel Amateur Radio Club
REFRESH-INTERVAL;VALUE=DURATION:PT1440M
X-PUBLISHED-TTL:PT1440M
BEGIN:VTIMEZONE
TZID:America/New_York
BEGIN:STANDARD
DTSTART:20251102T020000Z
TZOFFSETFROM:-0400
TZOFFSETTO:-0500
END:STANDARD
BEGIN:DAYLIGHT
DTSTART:20260308T020000Z
TZOFFSETFROM:-0500
TZOFFSETTO:-0400
END:DAYLIGHT
END:VTIMEZONE
BEGIN:VTIMEZONE
TZID:UTC
BEGIN:STANDARD
DTSTART:20250725T160741Z
TZOFFSETFROM:+0000
TZOFFSETTO:+0000
END:STANDARD
END:VTIMEZONE
BEGIN:VEVENT
UID:164-7
DTSTAMP:20260421T160741Z
SUMMARY:Social Meeting
LOCATION:
ORGANIZER;CN=admin:MAILTO:admin@larcmd.org
RRULE:FREQ=MONTHLY;BYDAY=2WE;UNTIL=20300401T000000Z
DTSTART;TZID=America/New_York:20260408T190000
DTEND;TZID=America/New_York:20260408T203000
X-ALT-DESC;FMTTYPE=TEXT/HTML:We have our LARC social at Denny's Restaurant 
 at the corner of Montgomery Street and Rt 1. All are welcome.
CATEGORIES:Meetings
URL;VALUE=URI:https://larcmd.org/mc-events/social-meeting/?mc_id=164
METHOD:PUBLISH
END:VEVENT
END:VCALENDAR