BEGIN:VCALENDAR
VERSION:2.0
PRODID:spatie/icalendar-generator
DESCRIPTION:Events from Laurel Amateur Radio Club
X-WR-CALDESC:Events from Laurel Amateur Radio Club
REFRESH-INTERVAL;VALUE=DURATION:PT1440M
X-PUBLISHED-TTL:PT1440M
BEGIN:VTIMEZONE
TZID:America/New_York
BEGIN:STANDARD
DTSTART:20251102T020000Z
TZOFFSETFROM:-0400
TZOFFSETTO:-0500
END:STANDARD
BEGIN:DAYLIGHT
DTSTART:20260308T020000Z
TZOFFSETFROM:-0500
TZOFFSETTO:-0400
END:DAYLIGHT
BEGIN:STANDARD
DTSTART:20261101T020000Z
TZOFFSETFROM:-0400
TZOFFSETTO:-0500
END:STANDARD
END:VTIMEZONE
BEGIN:VTIMEZONE
TZID:UTC
BEGIN:STANDARD
DTSTART:20250725T173314Z
TZOFFSETFROM:+0000
TZOFFSETTO:+0000
END:STANDARD
END:VTIMEZONE
BEGIN:VEVENT
UID:3-2
DTSTAMP:20260421T173314Z
SUMMARY:Business Meeting
LOCATION:Women\\'s Club of Laurel 384 Main Street  Laurel MD 20707
ORGANIZER;CN=admin:MAILTO:admin@larcmd.org
RRULE:FREQ=MONTHLY;BYDAY=4WE;UNTIL=20300401T000000Z
DTSTART;TZID=America/New_York:20260527T193000
DTEND;TZID=America/New_York:20260527T210000
X-ALT-DESC;FMTTYPE=TEXT/HTML:The Laurel Amateur Radio Club meets every 4th 
 Wednesday of the month from January to October.  There are no business me
 etings in November and December.
CATEGORIES:Meetings
URL;VALUE=URI:https://larcmd.org/mc-events/business-meeting/?mc_id=3
METHOD:PUBLISH
END:VEVENT
END:VCALENDAR