BEGIN:VCALENDAR
VERSION:2.0
PRODID:spatie/icalendar-generator
DESCRIPTION:Events from Laurel Amateur Radio Club
X-WR-CALDESC:Events from Laurel Amateur Radio Club
REFRESH-INTERVAL;VALUE=DURATION:PT1440M
X-PUBLISHED-TTL:PT1440M
BEGIN:VTIMEZONE
TZID:America/New_York
BEGIN:STANDARD
DTSTART:20251102T020000Z
TZOFFSETFROM:-0400
TZOFFSETTO:-0500
END:STANDARD
BEGIN:DAYLIGHT
DTSTART:20260308T020000Z
TZOFFSETFROM:-0500
TZOFFSETTO:-0400
END:DAYLIGHT
BEGIN:STANDARD
DTSTART:20261101T020000Z
TZOFFSETFROM:-0400
TZOFFSETTO:-0500
END:STANDARD
END:VTIMEZONE
BEGIN:VTIMEZONE
TZID:UTC
BEGIN:STANDARD
DTSTART:20250725T123901Z
TZOFFSETFROM:+0000
TZOFFSETTO:+0000
END:STANDARD
END:VTIMEZONE
BEGIN:VEVENT
UID:100-5
DTSTAMP:20260421T123901Z
SUMMARY:Odd Wednesday Night Net
LOCATION:WB3GXW Repeater 147.225
ORGANIZER;CN=admin:MAILTO:admin@larcmd.org
RRULE:FREQ=MONTHLY;BYDAY=1WE;UNTIL=20300401T000000Z
DTSTART;TZID=America/New_York:20260506T203000
DTEND;TZID=America/New_York:20260506T210000
X-ALT-DESC;FMTTYPE=TEXT/HTML:Just the usual reminder of our odd Wednesday n
 et at 8:30 pm on the Wb3GXW repeater. 147.225. You can also check in on Ec
 ho link on WB3GXW-R or WASHDC conference.  Come by and find out about all
  the things coming up the club will be participating in.
CATEGORIES:On the Air
URL;VALUE=URI:https://larcmd.org/mc-events/odd-wednesday-night-net-2/?mc_id
 =100
METHOD:PUBLISH
END:VEVENT
END:VCALENDAR